BEGIN:VCALENDAR
VERSION:2.0
PRODID:-//Ardingly Activity Centre - ECPv6.15.13//NONSGML v1.0//EN
CALSCALE:GREGORIAN
METHOD:PUBLISH
X-WR-CALNAME:Ardingly Activity Centre
X-ORIGINAL-URL:https://www.ardinglyactivitycentre.co.uk
X-WR-CALDESC:Events for Ardingly Activity Centre
REFRESH-INTERVAL;VALUE=DURATION:PT1H
X-Robots-Tag:noindex
X-PUBLISHED-TTL:PT1H
BEGIN:VTIMEZONE
TZID:Europe/London
BEGIN:DAYLIGHT
TZOFFSETFROM:+0000
TZOFFSETTO:+0100
TZNAME:BST
DTSTART:20250330T010000
END:DAYLIGHT
BEGIN:STANDARD
TZOFFSETFROM:+0100
TZOFFSETTO:+0000
TZNAME:GMT
DTSTART:20251026T010000
END:STANDARD
BEGIN:DAYLIGHT
TZOFFSETFROM:+0000
TZOFFSETTO:+0100
TZNAME:BST
DTSTART:20260329T010000
END:DAYLIGHT
BEGIN:STANDARD
TZOFFSETFROM:+0100
TZOFFSETTO:+0000
TZNAME:GMT
DTSTART:20261025T010000
END:STANDARD
BEGIN:DAYLIGHT
TZOFFSETFROM:+0000
TZOFFSETTO:+0100
TZNAME:BST
DTSTART:20270328T010000
END:DAYLIGHT
BEGIN:STANDARD
TZOFFSETFROM:+0100
TZOFFSETTO:+0000
TZNAME:GMT
DTSTART:20271031T010000
END:STANDARD
END:VTIMEZONE
BEGIN:VEVENT
DTSTART;TZID=Europe/London:20260418T093000
DTEND;TZID=Europe/London:20260419T163000
DTSTAMP:20260419T154114
CREATED:20260116T142427Z
LAST-MODIFIED:20260116T143531Z
UID:721-1776504600-1776616200@www.ardinglyactivitycentre.co.uk
SUMMARY:RYA Level 1 (Adult)
DESCRIPTION:The RYA Level 1 – Start Sailing course is for complete beginners\, and teaches you all the skills and theory necessary to get you helming a dinghy confidently\, initially with an instructor in the boat. You will learn to sail on a reach\, go-about\, and how to stop the boat\, progressing on to sailing upwind and downwind\, During the two days\, you will spend maximum time on the water in Wayfarer’s. \nAll equipment is provided\, including a wetsuit and buoyancy aid. \nThis is a two-day course\, 7 hours a day\, and upon successful completion of the course\, you’ll receive an RYA Level 1 certificate. Logbook and certificate included in the price. \nWe would recommend booking Level 1 and 2 if you wish to hire Dinghy’s. \nAt most RYA recognised centres the Level 2 is generally required and from experience the consecutive weekends or days works best for students learning to sail. \nTimings: 9:30am – 4:30pm everyday \nRequirements \n\n\n\n\nWater Confidence \n\nBook now onto our RYA Level 1 Course
URL:https://www.ardinglyactivitycentre.co.uk/event/rya-level-1-adult-180426/
LOCATION:Ardingly Activity Centre\, Ardingly\, RH17 6SQ\, United Kingdom
ATTACH;FMTTYPE=image/jpeg:https://www.ardinglyactivitycentre.co.uk/wp-content/uploads/2026/01/Website-Feature-Images-2.jpg
END:VEVENT
END:VCALENDAR